



BEGIN:VCALENDAR
VERSION:2.0
PRODID:-//wp-events-plugin.com//7.2.3.1//EN
BEGIN:VEVENT
UID:7065@labo-emc.org
DTSTART:20251023T130000Z
DTEND:20251023T190000Z
DTSTAMP:20251010T080339Z
URL:https://labo-emc.org/reservation/events/pelerin-76/
SUMMARY:Pelerin
DESCRIPTION:
CATEGORIES:Salle C17G - Simulation Conduite
END:VEVENT
END:VCALENDAR