



BEGIN:VCALENDAR
VERSION:2.0
PRODID:-//wp-events-plugin.com//7.2.3.1//EN
BEGIN:VEVENT
UID:7016@labo-emc.org
DTSTART:20250926T130000Z
DTEND:20250926T180000Z
DTSTAMP:20250924T155123Z
URL:https://labo-emc.org/reservation/events/pelerin-64/
SUMMARY:Pelerin
DESCRIPTION:
CATEGORIES:Salle C17G - Simulation Conduite
END:VEVENT
END:VCALENDAR