



BEGIN:VCALENDAR
VERSION:2.0
PRODID:-//wp-events-plugin.com//7.2.3.1//EN
BEGIN:VEVENT
UID:7233@labo-emc.org
DTSTART:20251205T090000Z
DTEND:20251205T190000Z
DTSTAMP:20251120T170319Z
URL:https://labo-emc.org/reservation/events/pelerin-101/
SUMMARY:Pelerin
DESCRIPTION:
CATEGORIES:Salle C17G - Simulation Conduite
END:VEVENT
END:VCALENDAR