



BEGIN:VCALENDAR
VERSION:2.0
PRODID:-//wp-events-plugin.com//7.2.3.1//EN
BEGIN:VEVENT
UID:5607@labo-emc.org
DTSTART:20240502T153000Z
DTEND:20240502T173000Z
DTSTAMP:20240502T123548Z
URL:https://labo-emc.org/reservation/events/pedraza_le-clezio-13/
SUMMARY:Pedraza_Le Clézio
DESCRIPTION:
CATEGORIES:Salle C17L
END:VEVENT
END:VCALENDAR