



BEGIN:VCALENDAR
VERSION:2.0
PRODID:-//wp-events-plugin.com//7.2.3.1//EN
BEGIN:VEVENT
UID:7392@labo-emc.org
DTSTART:20260128T113000Z
DTEND:20260128T130000Z
DTSTAMP:20260128T103946Z
URL:https://labo-emc.org/reservation/events/passations-tests/
SUMMARY:Passations tests
DESCRIPTION:
CATEGORIES:Salle C17M
END:VEVENT
END:VCALENDAR