



BEGIN:VCALENDAR
VERSION:2.0
PRODID:-//wp-events-plugin.com//7.2.3.1//EN
BEGIN:VEVENT
UID:7350@labo-emc.org
DTSTART:20260202T083000Z
DTEND:20260202T120000Z
DTSTAMP:20260122T140747Z
URL:https://labo-emc.org/reservation/events/passation-comora/
SUMMARY:Passation CoMorA
DESCRIPTION:M1 mémoire de recherche sous la supervision de M. Djeriouat (E
 MC) et Mme Peyroux (Vinatier)
END:VEVENT
END:VCALENDAR