



BEGIN:VCALENDAR
VERSION:2.0
PRODID:-//wp-events-plugin.com//7.2.3.1//EN
BEGIN:VEVENT
UID:6663@labo-emc.org
DTSTART:20250410T100000Z
DTEND:20250410T160000Z
DTSTAMP:20260421T221333Z
URL:
SUMMARY:Pardon-Tommasini_Plancher
DESCRIPTION:
END:VEVENT
END:VCALENDAR