



BEGIN:VCALENDAR
VERSION:2.0
PRODID:-//wp-events-plugin.com//7.2.3.1//EN
BEGIN:VEVENT
UID:7846@labo-emc.org
DTSTART:20260316T094500Z
DTEND:20260316T123000Z
DTSTAMP:20260316T080847Z
URL:https://labo-emc.org/reservation/events/pardon-tommasini_plancher-12/
SUMMARY:Pardon-Tommasini_Plancher
DESCRIPTION:
CATEGORIES:Salle C17J
END:VEVENT
END:VCALENDAR