



BEGIN:VCALENDAR
VERSION:2.0
PRODID:-//wp-events-plugin.com//7.2.3.1//EN
BEGIN:VEVENT
UID:7552@labo-emc.org
DTSTART:20260209T140000Z
DTEND:20260209T160000Z
DTSTAMP:20260206T123136Z
URL:https://labo-emc.org/reservation/events/parcigneau-leclezio/
SUMMARY:PARCIGNEAU-LECLEZIO
DESCRIPTION:
CATEGORIES:Salle C17i
END:VEVENT
END:VCALENDAR