



BEGIN:VCALENDAR
VERSION:2.0
PRODID:-//wp-events-plugin.com//7.2.3.1//EN
BEGIN:VEVENT
UID:7572@labo-emc.org
DTSTART:20260210T123000Z
DTEND:20260210T140000Z
DTSTAMP:20260209T084521Z
URL:https://labo-emc.org/reservation/events/parcigneau-le-clezio-2/
SUMMARY:PARCIGNEAU - LE CLEZIO
DESCRIPTION:
CATEGORIES:Salle C17J
END:VEVENT
END:VCALENDAR