



BEGIN:VCALENDAR
VERSION:2.0
PRODID:-//wp-events-plugin.com//7.2.3.1//EN
BEGIN:VEVENT
UID:8214@labo-emc.org
DTSTART:20260421T100000Z
DTEND:20260421T180000Z
DTSTAMP:20260420T133243Z
URL:https://labo-emc.org/reservation/events/pantigny_duran/
SUMMARY:Pantigny_Duran
DESCRIPTION:&nbsp\;
CATEGORIES:Salle C17L
END:VEVENT
END:VCALENDAR