



BEGIN:VCALENDAR
VERSION:2.0
PRODID:-//wp-events-plugin.com//7.2.3.1//EN
BEGIN:VEVENT
UID:8217@labo-emc.org
DTSTART:20260422T130000Z
DTEND:20260422T170000Z
DTSTAMP:20260421T104735Z
URL:https://labo-emc.org/reservation/events/pantigny-duran-3/
SUMMARY:Pantigny-Duran
DESCRIPTION:
CATEGORIES:Salle C17F - Passation collective (6 postes)
END:VEVENT
END:VCALENDAR