



BEGIN:VCALENDAR
VERSION:2.0
PRODID:-//wp-events-plugin.com//7.2.3.1//EN
BEGIN:VEVENT
UID:7557@labo-emc.org
DTSTART:20260209T130000Z
DTEND:20260209T160000Z
DTSTAMP:20260206T124549Z
URL:https://labo-emc.org/reservation/events/pantigny-duran-2/
SUMMARY:Pantigny Duran
DESCRIPTION:&nbsp\;
END:VEVENT
END:VCALENDAR