



BEGIN:VCALENDAR
VERSION:2.0
PRODID:-//wp-events-plugin.com//7.2.3.1//EN
BEGIN:VEVENT
UID:7567@labo-emc.org
DTSTART:20260211T113000Z
DTEND:20260211T153000Z
DTSTAMP:20260207T091759Z
URL:https://labo-emc.org/reservation/events/nogier_michael/
SUMMARY:Nogier_Michael
DESCRIPTION:
CATEGORIES:Salle C17i
END:VEVENT
END:VCALENDAR