



BEGIN:VCALENDAR
VERSION:2.0
PRODID:-//wp-events-plugin.com//7.2.3.1//EN
BEGIN:VEVENT
UID:7568@labo-emc.org
DTSTART:20260212T140000Z
DTEND:20260212T170000Z
DTSTAMP:20260207T093952Z
URL:https://labo-emc.org/reservation/events/nogier_michael-2/
SUMMARY:Nogier_Michael
DESCRIPTION:
CATEGORIES:Salle C17i
END:VEVENT
END:VCALENDAR