



BEGIN:VCALENDAR
VERSION:2.0
PRODID:-//wp-events-plugin.com//7.2.3.1//EN
BEGIN:VEVENT
UID:7091@labo-emc.org
DTSTART:20251021T140000Z
DTEND:20251021T170000Z
DTSTAMP:20251016T170426Z
URL:https://labo-emc.org/reservation/events/nina-stauffert-97/
SUMMARY:Nina Stauffert
DESCRIPTION:
CATEGORIES:Salle C17D
END:VEVENT
END:VCALENDAR