



BEGIN:VCALENDAR
VERSION:2.0
PRODID:-//wp-events-plugin.com//7.2.3.1//EN
BEGIN:VEVENT
UID:6279@labo-emc.org
DTSTART:20250314T140000Z
DTEND:20250314T170000Z
DTSTAMP:20250307T102609Z
URL:https://labo-emc.org/reservation/events/nina-stauffert-72/
SUMMARY:Nina Stauffert
DESCRIPTION:
CATEGORIES:Salle C17E - fNIRS
END:VEVENT
END:VCALENDAR