



BEGIN:VCALENDAR
VERSION:2.0
PRODID:-//wp-events-plugin.com//7.2.3.1//EN
BEGIN:VEVENT
UID:6276@labo-emc.org
DTSTART:20250312T140000Z
DTEND:20250312T170000Z
DTSTAMP:20250307T102416Z
URL:https://labo-emc.org/reservation/events/nina-stauffert-69/
SUMMARY:Nina Stauffert
DESCRIPTION:
CATEGORIES:Salle C17E - fNIRS
END:VEVENT
END:VCALENDAR