



BEGIN:VCALENDAR
VERSION:2.0
PRODID:-//wp-events-plugin.com//7.2.3.1//EN
BEGIN:VEVENT
UID:5905@labo-emc.org
DTSTART:20250122T140000Z
DTEND:20250122T170000Z
DTSTAMP:20250109T125106Z
URL:https://labo-emc.org/reservation/events/nina-stauffert-46/
SUMMARY:Nina Stauffert
DESCRIPTION:
CATEGORIES:Salle C17D
END:VEVENT
END:VCALENDAR