



BEGIN:VCALENDAR
VERSION:2.0
PRODID:-//wp-events-plugin.com//7.2.3.1//EN
BEGIN:VEVENT
UID:5821@labo-emc.org
DTSTART:20241205T090000Z
DTEND:20241205T123000Z
DTSTAMP:20241205T074809Z
URL:https://labo-emc.org/reservation/events/nina-stauffert-39/
SUMMARY:Nina Stauffert
DESCRIPTION:
CATEGORIES:Salle C17D
END:VEVENT
END:VCALENDAR