



BEGIN:VCALENDAR
VERSION:2.0
PRODID:-//wp-events-plugin.com//7.2.3.1//EN
BEGIN:VEVENT
UID:7283@labo-emc.org
DTSTART:20251212T154500Z
DTEND:20251212T171500Z
DTSTAMP:20251209T100147Z
URL:https://labo-emc.org/reservation/events/nina-stauffert-134/
SUMMARY:Nina Stauffert
DESCRIPTION:
END:VEVENT
END:VCALENDAR