



BEGIN:VCALENDAR
VERSION:2.0
PRODID:-//wp-events-plugin.com//7.2.3.1//EN
BEGIN:VEVENT
UID:7279@labo-emc.org
DTSTART:20251209T134500Z
DTEND:20251209T151500Z
DTSTAMP:20251208T141636Z
URL:https://labo-emc.org/reservation/events/nina-stauffert-133/
SUMMARY:Nina stauffert
DESCRIPTION:
END:VEVENT
END:VCALENDAR