



BEGIN:VCALENDAR
VERSION:2.0
PRODID:-//wp-events-plugin.com//7.2.3.1//EN
BEGIN:VEVENT
UID:7266@labo-emc.org
DTSTART:20251205T134500Z
DTEND:20251205T173000Z
DTSTAMP:20251204T140408Z
URL:https://labo-emc.org/reservation/events/nina-stauffert-131/
SUMMARY:Nina Stauffert
DESCRIPTION:
END:VEVENT
END:VCALENDAR