



BEGIN:VCALENDAR
VERSION:2.0
PRODID:-//wp-events-plugin.com//7.2.3.1//EN
BEGIN:VEVENT
UID:7240@labo-emc.org
DTSTART:20251126T124500Z
DTEND:20251126T153000Z
DTSTAMP:20251124T101508Z
URL:https://labo-emc.org/reservation/events/nina-stauffert-127/
SUMMARY:Nina Stauffert
DESCRIPTION:
END:VEVENT
END:VCALENDAR