



BEGIN:VCALENDAR
VERSION:2.0
PRODID:-//wp-events-plugin.com//7.2.3.1//EN
BEGIN:VEVENT
UID:7221@labo-emc.org
DTSTART:20251201T140000Z
DTEND:20251201T180000Z
DTSTAMP:20251120T084843Z
URL:https://labo-emc.org/reservation/events/nina-stauffert-123/
SUMMARY:Nina Stauffert
DESCRIPTION:
END:VEVENT
END:VCALENDAR