



BEGIN:VCALENDAR
VERSION:2.0
PRODID:-//wp-events-plugin.com//7.2.3.1//EN
BEGIN:VEVENT
UID:7252@labo-emc.org
DTSTART:20251127T140000Z
DTEND:20251127T153000Z
DTSTAMP:20251127T094723Z
URL:https://labo-emc.org/reservation/events/nicolai-lemoine-schubert/
SUMMARY:Nicolaï LEMOINE-SCHUBERT
DESCRIPTION:
CATEGORIES:Salle C17F - Passation collective (6 postes)
END:VEVENT
END:VCALENDAR