



BEGIN:VCALENDAR
VERSION:2.0
PRODID:-//wp-events-plugin.com//7.2.3.1//EN
BEGIN:VEVENT
UID:7253@labo-emc.org
DTSTART:20251128T100000Z
DTEND:20251128T120000Z
DTSTAMP:20251127T220440Z
URL:https://labo-emc.org/reservation/events/nicolai-lemoine-schubert-2/
SUMMARY:Nicolaï LEMOINE-SCHUBERT
DESCRIPTION:
CATEGORIES:Salle C17F - Passation collective (6 postes)
END:VEVENT
END:VCALENDAR