



BEGIN:VCALENDAR
VERSION:2.0
PRODID:-//wp-events-plugin.com//7.2.3.1//EN
BEGIN:VEVENT
UID:7868@labo-emc.org
DTSTART:20260305T120000Z
DTEND:20260305T150000Z
DTSTAMP:20260305T102451Z
URL:https://labo-emc.org/reservation/events/nassif-stauffert/
SUMMARY:Nassif-Stauffert
DESCRIPTION:
CATEGORIES:Salle C17E - fNIRS
END:VEVENT
END:VCALENDAR