



BEGIN:VCALENDAR
VERSION:2.0
PRODID:-//wp-events-plugin.com//7.2.3.1//EN
BEGIN:VEVENT
UID:7278@labo-emc.org
DTSTART:20251210T160000Z
DTEND:20251210T180000Z
DTSTAMP:20251208T125437Z
URL:https://labo-emc.org/reservation/events/morvan-m2-ihm-navarro-reynaud-
 2/
SUMMARY:Morvan M2 IHM Navarro/Reynaud
DESCRIPTION:
CATEGORIES:Salle C17G - Simulation Conduite
END:VEVENT
END:VCALENDAR