



BEGIN:VCALENDAR
VERSION:2.0
PRODID:-//wp-events-plugin.com//7.2.3.1//EN
BEGIN:VEVENT
UID:7357@labo-emc.org
DTSTART:20260129T144500Z
DTEND:20260129T154500Z
DTSTAMP:20260123T094529Z
URL:https://labo-emc.org/reservation/events/mongelard-caudrelier-6/
SUMMARY:Mongelard Caudrelier
DESCRIPTION:
CATEGORIES:Salle C17i
END:VEVENT
END:VCALENDAR