



BEGIN:VCALENDAR
VERSION:2.0
PRODID:-//wp-events-plugin.com//7.2.3.1//EN
BEGIN:VEVENT
UID:7339@labo-emc.org
DTSTART:20260130T123000Z
DTEND:20260130T130000Z
DTSTAMP:20260121T104653Z
URL:https://labo-emc.org/reservation/events/mongelard-caudrelier-5/
SUMMARY:Mongelard Caudrelier
DESCRIPTION:
CATEGORIES:Salle C17i
END:VEVENT
END:VCALENDAR