



BEGIN:VCALENDAR
VERSION:2.0
PRODID:-//wp-events-plugin.com//7.2.3.1//EN
BEGIN:VEVENT
UID:7980@labo-emc.org
DTSTART:20260313T084500Z
DTEND:20260313T100000Z
DTSTAMP:20260311T133348Z
URL:https://labo-emc.org/reservation/events/mongelard-caudrelier-18/
SUMMARY:Mongelard Caudrelier
DESCRIPTION:
CATEGORIES:Salle C17i
END:VEVENT
END:VCALENDAR