



BEGIN:VCALENDAR
VERSION:2.0
PRODID:-//wp-events-plugin.com//7.2.3.1//EN
BEGIN:VEVENT
UID:7634@labo-emc.org
DTSTART:20260213T153000Z
DTEND:20260213T160000Z
DTSTAMP:20260213T061219Z
URL:https://labo-emc.org/reservation/events/mongelard-caudrelier-15/
SUMMARY:Mongelard Caudrelier
DESCRIPTION:
CATEGORIES:Salle C17J
END:VEVENT
END:VCALENDAR