



BEGIN:VCALENDAR
VERSION:2.0
PRODID:-//wp-events-plugin.com//7.2.3.1//EN
BEGIN:VEVENT
UID:7559@labo-emc.org
DTSTART:20260206T160000Z
DTEND:20260206T163000Z
DTSTAMP:20260206T141209Z
URL:https://labo-emc.org/reservation/events/mongelard-caudrelier-10/
SUMMARY:Mongelard Caudrelier
DESCRIPTION:
CATEGORIES:Salle C17i
END:VEVENT
END:VCALENDAR