



BEGIN:VCALENDAR
VERSION:2.0
PRODID:-//wp-events-plugin.com//7.2.3.1//EN
BEGIN:VEVENT
UID:8039@labo-emc.org
DTSTART:20260326T130000Z
DTEND:20260326T180000Z
DTSTAMP:20260316T210313Z
URL:https://labo-emc.org/reservation/events/mesentzoff-caudrelier-6/
SUMMARY:Mesentzoff - Caudrelier
DESCRIPTION:
CATEGORIES:Salle C17M
END:VEVENT
END:VCALENDAR