



BEGIN:VCALENDAR
VERSION:2.0
PRODID:-//wp-events-plugin.com//7.2.3.1//EN
BEGIN:VEVENT
UID:7029@labo-emc.org
DTSTART:20251002T140000Z
DTEND:20251002T193000Z
DTSTAMP:20251001T125338Z
URL:https://labo-emc.org/reservation/events/mercier-7/
SUMMARY:Mercier
DESCRIPTION:
CATEGORIES:Salle C17E - fNIRS
END:VEVENT
END:VCALENDAR