



BEGIN:VCALENDAR
VERSION:2.0
PRODID:-//wp-events-plugin.com//7.2.3.1//EN
BEGIN:VEVENT
UID:7566@labo-emc.org
DTSTART:20260209T160000Z
DTEND:20260209T173000Z
DTSTAMP:20260206T161514Z
URL:https://labo-emc.org/reservation/events/mercier-36/
SUMMARY:Mercier
DESCRIPTION:
CATEGORIES:Salle C17E - fNIRS
END:VEVENT
END:VCALENDAR