



BEGIN:VCALENDAR
VERSION:2.0
PRODID:-//wp-events-plugin.com//7.2.3.1//EN
BEGIN:VEVENT
UID:7564@labo-emc.org
DTSTART:20260209T130000Z
DTEND:20260209T160000Z
DTSTAMP:20260206T161316Z
URL:https://labo-emc.org/reservation/events/mercier-35/
SUMMARY:Mercier
DESCRIPTION:
CATEGORIES:Salle C17E - fNIRS
END:VEVENT
END:VCALENDAR