



BEGIN:VCALENDAR
VERSION:2.0
PRODID:-//wp-events-plugin.com//7.2.3.1//EN
BEGIN:VEVENT
UID:7531@labo-emc.org
DTSTART:20260206T100000Z
DTEND:20260206T123000Z
DTSTAMP:20260205T143228Z
URL:https://labo-emc.org/reservation/events/mercier-34/
SUMMARY:Mercier
DESCRIPTION:
CATEGORIES:Salle C17E - fNIRS
END:VEVENT
END:VCALENDAR