



BEGIN:VCALENDAR
VERSION:2.0
PRODID:-//wp-events-plugin.com//7.2.3.1//EN
BEGIN:VEVENT
UID:7482@labo-emc.org
DTSTART:20260203T120000Z
DTEND:20260203T160000Z
DTSTAMP:20260202T114646Z
URL:https://labo-emc.org/reservation/events/mercier-31/
SUMMARY:Mercier
DESCRIPTION:
CATEGORIES:Salle C17E - fNIRS
END:VEVENT
END:VCALENDAR