



BEGIN:VCALENDAR
VERSION:2.0
PRODID:-//wp-events-plugin.com//7.2.3.1//EN
BEGIN:VEVENT
UID:7247@labo-emc.org
DTSTART:20251126T163000Z
DTEND:20251126T190000Z
DTSTAMP:20251125T140702Z
URL:https://labo-emc.org/reservation/events/mercier-19/
SUMMARY:Mercier
DESCRIPTION:
CATEGORIES:Salle C17E - fNIRS
END:VEVENT
END:VCALENDAR