



BEGIN:VCALENDAR
VERSION:2.0
PRODID:-//wp-events-plugin.com//7.2.3.1//EN
BEGIN:VEVENT
UID:7219@labo-emc.org
DTSTART:20251120T180000Z
DTEND:20251120T201500Z
DTSTAMP:20251119T130853Z
URL:https://labo-emc.org/reservation/events/mercier-17/
SUMMARY:Mercier
DESCRIPTION:
CATEGORIES:Salle C17E - fNIRS
END:VEVENT
END:VCALENDAR