



BEGIN:VCALENDAR
VERSION:2.0
PRODID:-//wp-events-plugin.com//7.2.3.1//EN
BEGIN:VEVENT
UID:7085@labo-emc.org
DTSTART:20251015T133000Z
DTEND:20251015T160000Z
DTSTAMP:20251015T103218Z
URL:https://labo-emc.org/reservation/events/mercier-12/
SUMMARY:Mercier
DESCRIPTION:
CATEGORIES:Salle C17E - fNIRS
END:VEVENT
END:VCALENDAR