



BEGIN:VCALENDAR
VERSION:2.0
PRODID:-//wp-events-plugin.com//7.2.3.1//EN
BEGIN:VEVENT
UID:7077@labo-emc.org
DTSTART:20251013T113000Z
DTEND:20251013T133000Z
DTSTAMP:20251013T091526Z
URL:https://labo-emc.org/reservation/events/mercier-11/
SUMMARY:Mercier
DESCRIPTION:
CATEGORIES:Salle C17E - fNIRS
END:VEVENT
END:VCALENDAR