



BEGIN:VCALENDAR
VERSION:2.0
PRODID:-//wp-events-plugin.com//7.2.3.1//EN
BEGIN:VEVENT
UID:7619@labo-emc.org
DTSTART:20260212T110000Z
DTEND:20260212T123000Z
DTSTAMP:20260211T221934Z
URL:https://labo-emc.org/reservation/events/mekui-collet-7/
SUMMARY:MEKUI-COLLET
DESCRIPTION:
CATEGORIES:Salle C17L
END:VEVENT
END:VCALENDAR