



BEGIN:VCALENDAR
VERSION:2.0
PRODID:-//wp-events-plugin.com//7.2.3.1//EN
BEGIN:VEVENT
UID:7866@labo-emc.org
DTSTART:20260305T120000Z
DTEND:20260305T123000Z
DTSTAMP:20260305T100023Z
URL:https://labo-emc.org/reservation/events/mekui-collet-15/
SUMMARY:MEKUI-COLLET
DESCRIPTION:
CATEGORIES:Salle C17D
END:VEVENT
END:VCALENDAR