



BEGIN:VCALENDAR
VERSION:2.0
PRODID:-//wp-events-plugin.com//7.2.3.1//EN
BEGIN:VEVENT
UID:7817@labo-emc.org
DTSTART:20260302T100000Z
DTEND:20260302T111500Z
DTSTAMP:20260302T061425Z
URL:https://labo-emc.org/reservation/events/mekui-collet-11/
SUMMARY:MEKUI-COLLET
DESCRIPTION:
CATEGORIES:Salle C17D
END:VEVENT
END:VCALENDAR