



BEGIN:VCALENDAR
VERSION:2.0
PRODID:-//wp-events-plugin.com//7.2.3.1//EN
BEGIN:VEVENT
UID:7154@labo-emc.org
DTSTART:20251106T100000Z
DTEND:20251106T123000Z
DTSTAMP:20251106T090950Z
URL:https://labo-emc.org/reservation/events/massol-kerzazi-eeg/
SUMMARY:Massol Kerzazi EEG
DESCRIPTION:
CATEGORIES:Salle C17A/B - EEG/Physio
END:VEVENT
END:VCALENDAR