



BEGIN:VCALENDAR
VERSION:2.0
PRODID:-//wp-events-plugin.com//7.2.3.1//EN
BEGIN:VEVENT
UID:7833@labo-emc.org
DTSTART:20260303T120000Z
DTEND:20260303T133000Z
DTSTAMP:20260302T142714Z
URL:https://labo-emc.org/reservation/events/marcou-colliot/
SUMMARY:Marcou-Colliot
DESCRIPTION:
CATEGORIES:Salle C17D
END:VEVENT
END:VCALENDAR