



BEGIN:VCALENDAR
VERSION:2.0
PRODID:-//wp-events-plugin.com//7.2.3.1//EN
BEGIN:VEVENT
UID:8134@labo-emc.org
DTSTART:20260327T120000Z
DTEND:20260327T140000Z
DTSTAMP:20260326T175003Z
URL:https://labo-emc.org/reservation/events/marcou-colliot-5/
SUMMARY:MARCOU COLLIOT
DESCRIPTION:
CATEGORIES:Salle C17D
END:VEVENT
END:VCALENDAR